BEGIN:VCALENDAR
VERSION:2.0
PRODID:-//ChamberMaster//Event Calendar 2.0//EN
METHOD:PUBLISH
X-PUBLISHED-TTL:P3D
REFRESH-INTERVAL:P3D
CALSCALE:GREGORIAN
BEGIN:VEVENT
DTSTART:20121009T000000Z
DTEND:20121009T023000Z
X-MICROSOFT-CDO-ALLDAYEVENT:FALSE
SUMMARY:Myers-Briggs Workshop
DESCRIPTION:Learn your type and communication and teamwork style from this popular personality tool. Understanding yourself and others is essential for your professional and personal success. RSVP required. Click here for details.
X-ALT-DESC;FMTTYPE=text/html:<DIV style="FONT-FAMILY: Arial">Learn your type and communication and teamwork style from this popular personality tool. Understanding yourself and others is essential for your professional and personal success. RSVP required. <A href="http://www.career-design.com/services/assessments/90-what-is-the-myers-briggs.html">Click here for details.</A></DIV><DIV style="FONT-FAMILY: Arial">&nbsp\;</DIV><DIV style="FONT-FAMILY: Arial">&nbsp\;</DIV>
LOCATION:Career Design Associates\, Inc.
UID:e.2096.1098
SEQUENCE:3
DTSTAMP:20260421T175417Z
URL:https://network.garlandchamber.com/events/details/myers-briggs-workshop-10-08-2012-1098
END:VEVENT

END:VCALENDAR
