BEGIN:VCALENDAR
VERSION:2.0
PRODID:-//ChamberMaster//Event Calendar 2.0//EN
METHOD:PUBLISH
X-PUBLISHED-TTL:P3D
REFRESH-INTERVAL:P3D
CALSCALE:GREGORIAN
BEGIN:VEVENT
DTSTART:20090124T160000Z
DTEND:20090124T060000Z
X-MICROSOFT-CDO-ALLDAYEVENT:FALSE
SUMMARY:Naaman Forest Recycling Drive ( A Variety of Items Accepted)
DESCRIPTION:
X-ALT-DESC;FMTTYPE=text/html:
LOCATION:Naaman Forest Parking Lot
UID:e.2096.524
SEQUENCE:3
DTSTAMP:20260424T105439Z
URL:https://network.garlandchamber.com/events/details/naaman-forest-recycling-drive-a-variety-of-items-accepted-01-24-2009-524
END:VEVENT

END:VCALENDAR
