BEGIN:VCALENDAR
VERSION:2.0
PRODID:-//ChamberMaster//Event Calendar 2.0//EN
METHOD:PUBLISH
X-PUBLISHED-TTL:P3D
REFRESH-INTERVAL:P3D
CALSCALE:GREGORIAN
BEGIN:VEVENT
DTSTART:20091010T143000Z
DTEND:20091010T050000Z
X-MICROSOFT-CDO-ALLDAYEVENT:FALSE
SUMMARY:National Beauty College
DESCRIPTION:
X-ALT-DESC;FMTTYPE=text/html:
LOCATION:National Beauty College
UID:e.2096.705
SEQUENCE:3
DTSTAMP:20260423T205608Z
URL:https://network.garlandchamber.com/events/details/national-beauty-college-10-10-2009-705
END:VEVENT

END:VCALENDAR
