BEGIN:VCALENDAR
VERSION:2.0
PRODID:-//ChamberMaster//Event Calendar 2.0//EN
METHOD:PUBLISH
X-PUBLISHED-TTL:P3D
REFRESH-INTERVAL:P3D
CALSCALE:GREGORIAN
BEGIN:VEVENT
DTSTART:20121002T140000Z
DTEND:20121002T170000Z
X-MICROSOFT-CDO-ALLDAYEVENT:FALSE
SUMMARY:National Encore Entrepreneur Day
DESCRIPTION:Could you be America's next successful small business owner? Sixty-three percent of Americans plan to work during retirement. Small business ownership is a good option and small business owners with long-term counselors see greater sales\, hire more workers and are more successful. Join us to meet mentors from the North Texas Small Business Development Center and Dallas-Fort Worth District SCORE counselors. These experts can help turn your business idea into a reality and advise you throughout the life of your business. Hear from a panel of Encore Entrepreneurs who will share their secrets of success. Tuesday\, Oct. 2\, 2012 from 9 a.m. to Noon. Register for this FREE event online or contact the North Texas SBDC at (214) 860-5831.Walk-ins are welcome if space permits.
X-ALT-DESC;FMTTYPE=text/html:<DIV style="FONT-FAMILY: Arial">Could you be America's next successful small business owner?</DIV><DIV style="FONT-FAMILY: Arial">&nbsp\;</DIV><DIV style="FONT-FAMILY: Arial">Sixty-three percent of Americans plan to work during retirement. Small business ownership is a good option and small business owners with long-term counselors see greater sales\, hire more workers and are more successful. Join us to meet mentors from the North Texas Small Business Development Center and Dallas-Fort Worth District SCORE counselors. These experts can help turn your business idea into a reality and advise you throughout the life of your business.</DIV><DIV style="FONT-FAMILY: Arial">&nbsp\;</DIV><DIV style="FONT-FAMILY: Arial">Hear from a panel of Encore Entrepreneurs who will share their secrets of success.</DIV><DIV style="FONT-FAMILY: Arial">&nbsp\;</DIV><DIV style="FONT-FAMILY: Arial">Tuesday\, Oct. 2\, 2012 from 9 a.m. to Noon.</DIV><DIV style="FONT-FAMILY: Arial">&nbsp\;</DIV><DIV style="FONT-FAMILY: Arial"><A dataFld=0:0 href="http://sbaencoreatdallas.eventbrite.com/">Register for this FREE event online</A> or contact the North Texas SBDC at (214) 860-5831.</DIV><DIV style="FONT-FAMILY: Arial"><EM>Walk-ins are welcome if space permits.</EM></DIV>
LOCATION:Bill Priest Campus\, Hoblitzelle Auditorium #1530
UID:e.2096.1091
SEQUENCE:3
DTSTAMP:20260421T175600Z
URL:https://network.garlandchamber.com/events/details/national-encore-entrepreneur-day-10-02-2012-1091
END:VEVENT

END:VCALENDAR
