BEGIN:VCALENDAR
VERSION:2.0
PRODID:-//ChamberMaster//Event Calendar 2.0//EN
METHOD:PUBLISH
X-PUBLISHED-TTL:P3D
REFRESH-INTERVAL:P3D
CALSCALE:GREGORIAN
BEGIN:VEVENT
DTSTART:20110204T060000Z
DTEND:20110204T060000Z
X-MICROSOFT-CDO-ALLDAYEVENT:FALSE
SUMMARY:National Football Players Fathers Association
DESCRIPTION:National Football Players Fathers Association
X-ALT-DESC;FMTTYPE=text/html:National Football Players Fathers Association
LOCATION:Firewheel Golf Park
UID:e.2096.2265
SEQUENCE:3
DTSTAMP:20260422T223343Z
URL:https://network.garlandchamber.com/events/details/national-football-players-fathers-association-02-04-2011-2265
END:VEVENT

END:VCALENDAR
