BEGIN:VCALENDAR
VERSION:2.0
PRODID:-//ChamberMaster//Event Calendar 2.0//EN
METHOD:PUBLISH
X-PUBLISHED-TTL:P3D
REFRESH-INTERVAL:P3D
CALSCALE:GREGORIAN
BEGIN:VEVENT
DTSTART:20110505T220000Z
DTEND:20110506T000000Z
X-MICROSOFT-CDO-ALLDAYEVENT:FALSE
SUMMARY:National Mom's Nite Out
DESCRIPTION:
X-ALT-DESC;FMTTYPE=text/html:<DIV><SPAN style="FONT-SIZE: 10pt\; FONT-FAMILY: 'Times New Roman'\,'serif'\; mso-fareast-font-family: Calibri\; mso-fareast-theme-font: minor-latin\; mso-ansi-language: EN-US\; mso-fareast-language: EN-US\; mso-bidi-language: AR-SA"><FONT size=5></FONT></SPAN>&nbsp\;</DIV>
LOCATION:Firewheel Town Center (In the Park)
UID:e.2096.923
SEQUENCE:3
DTSTAMP:20260422T175718Z
URL:https://network.garlandchamber.com/events/details/national-mom-s-nite-out-05-05-2011-923
END:VEVENT

END:VCALENDAR
