BEGIN:VCALENDAR
VERSION:2.0
PRODID:-//ChamberMaster//Event Calendar 2.0//EN
METHOD:PUBLISH
X-PUBLISHED-TTL:P3D
REFRESH-INTERVAL:P3D
CALSCALE:GREGORIAN
BEGIN:VEVENT
DTSTART:20130212T130000Z
DTEND:20130212T150000Z
X-MICROSOFT-CDO-ALLDAYEVENT:FALSE
SUMMARY:National Pancake Day
DESCRIPTION:
X-ALT-DESC;FMTTYPE=text/html:
LOCATION:Advanced Health & Rehab Center of Garland
UID:e.2096.1140
SEQUENCE:3
DTSTAMP:20260421T114939Z
URL:https://network.garlandchamber.com/events/details/national-pancake-day-02-12-2013-1140
END:VEVENT

END:VCALENDAR
