BEGIN:VCALENDAR
VERSION:2.0
PRODID:-//ChamberMaster//Event Calendar 2.0//EN
METHOD:PUBLISH
X-PUBLISHED-TTL:P3D
REFRESH-INTERVAL:P3D
CALSCALE:GREGORIAN
BEGIN:VEVENT
DTSTART:20130617T130000Z
DTEND:20130621T220000Z
X-MICROSOFT-CDO-ALLDAYEVENT:FALSE
SUMMARY:National Small Business Week
DESCRIPTION:National Small Business Week comes to Dallas on June 18\, 2013 Register Now to Attend Tuesday\, June 18\, 2013 from 7:30 a.m. to 2 p.m.Schedule of Events
X-ALT-DESC;FMTTYPE=text/html:<DIV style="FONT-FAMILY: Arial">National Small Business Week comes to Dallas on June 18\, 2013 </DIV><DIV style="FONT-FAMILY: Arial"><A dataFld=0:0 href="http://2013nsbwdallas.eventbrite.com/">Register Now to Attend</A></DIV><DIV style="FONT-FAMILY: Arial">&nbsp\;</DIV><DIV style="FONT-FAMILY: Arial">Tuesday\, June 18\, 2013 from 7:30 a.m. to 2 p.m.</DIV><DIV style="FONT-FAMILY: Arial"><A dataFld=0:0 href="http://www.sba.gov/nsbw/events-schedule#dallas">Schedule of Events</A></DIV>
LOCATION:Arlington Convention Center
UID:e.2096.1195
SEQUENCE:3
DTSTAMP:20260421T073754Z
URL:https://network.garlandchamber.com/events/details/national-small-business-week-06-17-2013-1195
END:VEVENT

END:VCALENDAR
