BEGIN:VCALENDAR
VERSION:2.0
PRODID:-//ChamberMaster//Event Calendar 2.0//EN
METHOD:PUBLISH
X-PUBLISHED-TTL:P3D
REFRESH-INTERVAL:P3D
CALSCALE:GREGORIAN
BEGIN:VEVENT
DTSTART:20120505T140000Z
DTEND:20120505T180000Z
X-MICROSOFT-CDO-ALLDAYEVENT:FALSE
SUMMARY:Navy SHRED-eral Day
DESCRIPTION:Help protect yourself against ID theft. Attend Navy SHRED-eral Day\, Saturday\, May 5\, 2012 from 9 a.m. to 1 p.m. at 5102 N. President George Bush Freeway in Garland. Shred up to four boxes of personal documents. This event is free and open to the public. See the flyer for details. Call 1-888-842-6328 for additional information.
X-ALT-DESC;FMTTYPE=text/html:<DIV style="FONT-FAMILY: Arial">Help protect yourself against ID theft. Attend Navy SHRED-eral Day\, Saturday\, May 5\, 2012 from 9 a.m. to 1 p.m. at 5102 N. President George Bush Freeway in Garland.</DIV><DIV style="FONT-FAMILY: Arial">&nbsp\;</DIV><DIV style="FONT-FAMILY: Arial">Shred up to four boxes of personal documents. This event is free and open to the public. <A href="http://www.garlandchamber.com/images/stories/chamber/Shred%20Day.pdf">See the flyer</A> for details.</DIV><DIV style="FONT-FAMILY: Arial">&nbsp\;</DIV><DIV style="FONT-FAMILY: Arial">Call 1-888-842-6328 for additional information.</DIV>
LOCATION:Navy Federal Credit Union
UID:e.2096.1029
SEQUENCE:3
DTSTAMP:20260422T010213Z
URL:https://network.garlandchamber.com/events/details/navy-shred-eral-day-05-05-2012-1029
END:VEVENT

END:VCALENDAR
