BEGIN:VCALENDAR
VERSION:2.0
PRODID:-//ChamberMaster//Event Calendar 2.0//EN
METHOD:PUBLISH
X-PUBLISHED-TTL:P3D
REFRESH-INTERVAL:P3D
CALSCALE:GREGORIAN
BEGIN:VEVENT
DTSTART:20100604T050000Z
DTEND:20100604T050000Z
X-MICROSOFT-CDO-ALLDAYEVENT:FALSE
SUMMARY:New Beginning Center Annual Golf Tournament
DESCRIPTION:New Beginning Center Annual Golf Tournament
X-ALT-DESC;FMTTYPE=text/html:New Beginning Center Annual Golf Tournament
LOCATION:
UID:e.2096.2122
SEQUENCE:3
DTSTAMP:20260423T093849Z
URL:https://network.garlandchamber.com/events/details/new-beginning-center-annual-golf-tournament-06-04-2010-2122
END:VEVENT

END:VCALENDAR
