BEGIN:VCALENDAR
VERSION:2.0
PRODID:-//ChamberMaster//Event Calendar 2.0//EN
METHOD:PUBLISH
X-PUBLISHED-TTL:P3D
REFRESH-INTERVAL:P3D
CALSCALE:GREGORIAN
BEGIN:VEVENT
DTSTART:20120601T130000Z
DTEND:20120602T020000Z
X-MICROSOFT-CDO-ALLDAYEVENT:FALSE
SUMMARY:New Beginning Center Golf Tournament & Evening With Tres Chefs
DESCRIPTION:On June 1\, 2012\, New Beginning Center will host its annual Golf Tournament coupled with the ultimate dining experience\, an Evening With Tres Chefs. The Golf Tournament will be at Firewheel Golf Course\, Lakes Course with the awards ceremony and gourmet dinner following at Spring Creek Church. This is an opportunity to make a distinct difference in the world. Proceeds will benefit New Beginning Center's efforts to help those affected by domestic violence. The registration deadline is May 29\, 2012. See the Tournament Flyer See Sponsorship Availability
X-ALT-DESC;FMTTYPE=text/html:<DIV style="FONT-FAMILY: Arial">On June 1\, 2012\, New Beginning Center will host its annual Golf Tournament coupled with the ultimate dining experience\, an Evening With Tres Chefs. The Golf Tournament will be at Firewheel Golf Course\, Lakes Course with the awards ceremony and gourmet dinner following at Spring Creek Church. This is an opportunity to make a distinct difference in the world. Proceeds will benefit New Beginning Center's efforts to help those affected by domestic violence.</DIV><DIV style="FONT-FAMILY: Arial">&nbsp\;</DIV><DIV style="FONT-FAMILY: Arial">The registration deadline is May 29\, 2012.</DIV><DIV style="FONT-FAMILY: Arial">&nbsp\;</DIV><DIV style="FONT-FAMILY: Arial"><A dataFld=0:0 href="http://www.garlandchamber.com/images/stories/chamber/NBC%20golf%20flyer%20final.jpg">See the Tournament Flyer</A></DIV><DIV style="FONT-FAMILY: Arial">&nbsp\;</DIV><DIV style="FONT-FAMILY: Arial"><A dataFld=0:0 href="http://www.newbeginningcenter.org/category/events/">See Sponsorship Availability</A></DIV>
LOCATION:Firewheel at Garland
UID:e.2096.1036
SEQUENCE:3
DTSTAMP:20260421T233851Z
URL:https://network.garlandchamber.com/events/details/new-beginning-center-golf-tournament-evening-with-tres-chefs-06-01-2012-1036
END:VEVENT

END:VCALENDAR
