BEGIN:VCALENDAR
VERSION:2.0
PRODID:-//ChamberMaster//Event Calendar 2.0//EN
METHOD:PUBLISH
X-PUBLISHED-TTL:P3D
REFRESH-INTERVAL:P3D
CALSCALE:GREGORIAN
BEGIN:VEVENT
DTSTART:20110809T120000Z
DTEND:20110810T030000Z
X-MICROSOFT-CDO-ALLDAYEVENT:FALSE
SUMMARY:New Beginning Center partners with Fuzzy's Taco Shop!
DESCRIPTION:Fuzzy's Taco Shop Partners with New Beginning CenterOne of the first things a customer at Fuzzy's Taco Shop (located at 2125 N. George Bush\, Ste. 700\, Garland\, Texas 75040 - Phone: 972-495-8226) will learn is that not only does Fuzzy's have great Baja style tacos and all the trimmings but also has a mission with a heart.   Fuzzy's mission of giving back to the community includes creating a partnership with New Beginning Center: A partnership that seeks to create opportunities for the community to enjoy a great meal in a fun atmosphere all the while raising much needed funds for the services provided to women and child victims of domestic violence served by New Beginning Center.   "Come out and join us for lunch or dinner August 9th and Fuzzy's will donate 10% of all sales this second Tuesday in August\," stated Jennifer Morrison\, Executive Director of New Beginning Center. "We are honored to have made a new friend in the community and we look forward to seeing you at Fuzzy's." In 2010\, 136 women in Texas were killed by an intimate partner or ex-partner. There were more than 193\,000 reported family violence incidents in Texas alone\, with many of those in our own backyard.  84% of Texans believe they can make a difference in the efforts to end domestic violence\, please join New Beginning Center August 9th at Fuzzy's Taco Shop.  Together we can save lives and prevent domestic violence in our own community.   Please contact Jennifer Morrison at jmorrison@newbeginningcenter.org  for more information. You may also call New Beginning Center at 972.276.0423.
X-ALT-DESC;FMTTYPE=text/html:<P style="LINE-HEIGHT: 150%\; MARGIN: 0in 0in 0pt\; mso-outline-level: 1" class=MsoNormal align=left><B><SPAN style="LINE-HEIGHT: 150%\; FONT-SIZE: 16pt"><FONT face="Times New Roman"><FONT size=3>Fuzzy's Taco Shop Partners with New Beginning Center<?xml:namespace prefix = o ns = "urn:schemas-microsoft-com:office:office" /><o:p></o:p></FONT></FONT></SPAN></B></P><P style="LINE-HEIGHT: 150%\; MARGIN: 0in 0in 0pt" class=MsoNormal align=left><SPAN style="LINE-HEIGHT: 150%\; FONT-SIZE: 14pt"><FONT face="Times New Roman"><FONT size=3>One of the first things a customer at Fuzzy's Taco Shop (located at 2125 N. George Bush\, Ste. 700\, Garland\, Texas 75040&nbsp\;- Phone: 972-495-8226) will learn is that not only does Fuzzy's have great Baja style tacos and all the trimmings but also has a mission with a heart.<SPAN style="mso-spacerun: yes">&nbsp\; </SPAN><o:p></o:p></FONT></FONT></SPAN></P><P style="LINE-HEIGHT: 150%\; MARGIN: 0in 0in 0pt" class=MsoNormal align=left><SPAN style="LINE-HEIGHT: 150%\; FONT-SIZE: 14pt"><o:p><FONT size=3 face="Times New Roman">&nbsp\;</FONT></o:p></SPAN></P><P style="LINE-HEIGHT: 150%\; MARGIN: 0in 0in 0pt" class=MsoNormal align=left><SPAN style="LINE-HEIGHT: 150%\; FONT-SIZE: 14pt"><FONT face="Times New Roman"><FONT size=3>Fuzzy's mission of giving back to the community includes creating a partnership with New Beginning Center: A partnership that seeks to create opportunities for the community to enjoy a great meal in a fun atmosphere all the while raising much needed funds for the services provided to women and child victims of domestic violence served by New Beginning Center.<SPAN style="mso-spacerun: yes">&nbsp\; </SPAN><o:p></o:p></FONT></FONT></SPAN></P><P style="LINE-HEIGHT: 150%\; MARGIN: 0in 0in 0pt" class=MsoNormal align=left><SPAN style="LINE-HEIGHT: 150%\; FONT-SIZE: 14pt"><o:p><FONT size=3 face="Times New Roman">&nbsp\;</FONT></o:p></SPAN></P><P style="LINE-HEIGHT: 150%\; MARGIN: 0in 0in 0pt" class=MsoNormal align=left><SPAN style="LINE-HEIGHT: 150%\; FONT-SIZE: 14pt"><FONT size=3 face="Times New Roman">"Come out and join us for lunch or dinner August 9<SUP>th</SUP> and Fuzzy's will donate 10% of all sales this second Tuesday in August\," stated Jennifer Morrison\, Executive Director of New Beginning Center. "We are honored to have made a new friend in the community and we look forward to seeing you at Fuzzy's."</FONT></SPAN></P><P style="LINE-HEIGHT: 150%\; MARGIN: 0in 0in 0pt" class=MsoNormal align=left><SPAN style="LINE-HEIGHT: 150%\; FONT-SIZE: 14pt"><o:p><FONT size=3 face="Times New Roman">&nbsp\;</FONT></o:p></SPAN></P><P style="LINE-HEIGHT: 150%\; MARGIN: 0in 0in 0pt" class=MsoNormal align=left><SPAN style="LINE-HEIGHT: 150%\; FONT-SIZE: 14pt"><FONT face="Times New Roman"><FONT size=3>In 2010\, 136 women in Texas were killed by an intimate partner or ex-partner. There were more than 193\,000 reported family violence incidents in Texas alone\, with many of those in our own backyard.<SPAN style="mso-spacerun: yes">&nbsp\; </SPAN>84% of Texans believe they can make a difference in the efforts to end domestic violence\, please join New Beginning Center August 9<SUP>th</SUP> at Fuzzy's Taco Shop.<SPAN style="mso-spacerun: yes">&nbsp\; </SPAN>Together we can save lives and prevent domestic violence in our own community.<SPAN style="mso-spacerun: yes">&nbsp\; </SPAN><o:p></o:p></FONT></FONT></SPAN></P><P style="LINE-HEIGHT: 150%\; MARGIN: 0in 0in 0pt" class=MsoNormal align=left><SPAN style="LINE-HEIGHT: 150%\; FONT-SIZE: 14pt"><o:p><FONT size=3 face="Times New Roman">&nbsp\;</FONT></o:p></SPAN></P><DIV align=left><FONT size=3><SPAN style="FONT-FAMILY: 'Times New Roman'\,'serif'\; FONT-SIZE: 14pt\; mso-fareast-font-family: 'Times New Roman'\; mso-ansi-language: EN-US\; mso-fareast-language: EN-US\; mso-bidi-language: AR-SA">Please contact Jennifer Morrison at </SPAN><SPAN style="FONT-FAMILY: 'Times New Roman'\,'serif'\; FONT-SIZE: 12pt\; mso-fareast-font-family: 'Times New Roman'\; mso-ansi-language: EN-US\; mso-fareast-language: EN-US\; mso-bidi-language: AR-SA"><A href="mailto:jmorrison@newbeginningcenter.org"><SPAN style="FONT-SIZE: 14pt">jmorrison@newbeginningcenter.org</SPAN></A></SPAN><SPAN style="FONT-FAMILY: 'Times New Roman'\,'serif'\; FONT-SIZE: 14pt\; mso-fareast-font-family: 'Times New Roman'\; mso-ansi-language: EN-US\; mso-fareast-language: EN-US\; mso-bidi-language: AR-SA"><SPAN style="mso-spacerun: yes">&nbsp\; </SPAN>for more information. You may also call New Beginning Center at 972.276.0423. </SPAN></FONT></DIV>
LOCATION:2125 N. George Bush\, Suite 700
UID:e.2096.949
SEQUENCE:3
DTSTAMP:20260422T135850Z
URL:https://network.garlandchamber.com/events/details/new-beginning-center-partners-with-fuzzy-s-taco-shop-08-09-2011-949
END:VEVENT

END:VCALENDAR
