BEGIN:VCALENDAR
VERSION:2.0
PRODID:-//ChamberMaster//Event Calendar 2.0//EN
METHOD:PUBLISH
X-PUBLISHED-TTL:P3D
REFRESH-INTERVAL:P3D
CALSCALE:GREGORIAN
BEGIN:VEVENT
DTSTART:20110624T190000Z
DTEND:20110624T050000Z
X-MICROSOFT-CDO-ALLDAYEVENT:FALSE
SUMMARY:New Beginning Center Resale Shop Grand Opening
DESCRIPTION:
X-ALT-DESC;FMTTYPE=text/html:
LOCATION:New Beginning Center Resale Store
UID:e.2096.934
SEQUENCE:3
DTSTAMP:20260422T163017Z
URL:https://network.garlandchamber.com/events/details/new-beginning-center-resale-shop-grand-opening-06-24-2011-934
END:VEVENT

END:VCALENDAR
