BEGIN:VCALENDAR
VERSION:2.0
PRODID:-//ChamberMaster//Event Calendar 2.0//EN
METHOD:PUBLISH
X-PUBLISHED-TTL:P3D
REFRESH-INTERVAL:P3D
CALSCALE:GREGORIAN
BEGIN:VEVENT
DTSTART:20100409T153000Z
DTEND:20100409T163000Z
X-MICROSOFT-CDO-ALLDAYEVENT:FALSE
SUMMARY:New Member Orientation
DESCRIPTION:
X-ALT-DESC;FMTTYPE=text/html:<DIV><P class=MsoNormal style="MARGIN: 0in 0in 0pt\; mso-layout-grid-align: none">&nbsp\;</P></DIV>
LOCATION:Garland Chamber of Commerce
UID:e.2096.776
SEQUENCE:3
DTSTAMP:20260423T133825Z
URL:https://network.garlandchamber.com/events/details/new-member-orientation-04-09-2010-776
END:VEVENT

END:VCALENDAR
