BEGIN:VCALENDAR
VERSION:2.0
PRODID:-//ChamberMaster//Event Calendar 2.0//EN
METHOD:PUBLISH
X-PUBLISHED-TTL:P3D
REFRESH-INTERVAL:P3D
CALSCALE:GREGORIAN
BEGIN:VEVENT
DTSTART:20240425T140000Z
DTEND:20240425T150000Z
X-MICROSOFT-CDO-ALLDAYEVENT:FALSE
SUMMARY:New Member Orientation- April 2024
DESCRIPTION:New Member Orientation\n\n\n\nCongratulations on becoming part of the Garland Chamber!!\n\nPlease join us on Thursday\, April 25th at 9 a.m. to learn more about the Chamber and how to get the most out of your investment.\n\nYou will meet new businesses who have recently joined\, so bring your business cards - this is a great opportunity to network with fellow members. \n\n \n\nThese sessions are offered quarterly throughout the year.
X-ALT-DESC;FMTTYPE=text/html:<strong><span style="font-size: 14px\;"><span style="font-size: 24px\;">New Member Orientation</span></span></strong><br />\n<br />\n<span style="font-size: 16px\;">Congratulations on becoming part of the Garland Chamber!!<br />\nPlease join us on Thursday\, April 25th at 9 a.m. to learn more about the Chamber and how to get the most out of your investment.<br />\nYou will meet new businesses who have recently joined\, so bring your business cards - this is a great opportunity to network with fellow members.&nbsp\;<br />\n&nbsp\;<br />\nThese sessions are offered quarterly throughout the year.</span>
LOCATION:Dallas College Garland Campus Conference Room A 675 W. Walnut Street Garland TX 75040
UID:e.2096.3874
SEQUENCE:3
DTSTAMP:20260420T210717Z
URL:https://network.garlandchamber.com/events/details/new-member-orientation-april-2024-3874
END:VEVENT

END:VCALENDAR
