BEGIN:VCALENDAR
VERSION:2.0
PRODID:-//ChamberMaster//Event Calendar 2.0//EN
METHOD:PUBLISH
X-PUBLISHED-TTL:P3D
REFRESH-INTERVAL:P3D
CALSCALE:GREGORIAN
BEGIN:VEVENT
DTSTART:20110205T060000Z
DTEND:20110205T060000Z
X-MICROSOFT-CDO-ALLDAYEVENT:FALSE
SUMMARY:NFL Mothers Gala
DESCRIPTION:NFL Mothers Gala
X-ALT-DESC;FMTTYPE=text/html:NFL Mothers Gala
LOCATION:The Atrium
UID:e.2096.2237
SEQUENCE:3
DTSTAMP:20260422T222842Z
URL:https://network.garlandchamber.com/events/details/nfl-mothers-gala-02-05-2011-2237
END:VEVENT

END:VCALENDAR
