BEGIN:VCALENDAR
VERSION:2.0
PRODID:-//ChamberMaster//Event Calendar 2.0//EN
METHOD:PUBLISH
X-PUBLISHED-TTL:P3D
REFRESH-INTERVAL:P3D
CALSCALE:GREGORIAN
BEGIN:VEVENT
DTSTART:20091019T050000Z
DTEND:20091019T050000Z
X-MICROSOFT-CDO-ALLDAYEVENT:FALSE
SUMMARY:North Texas Chamber of Commerce Executive Association
DESCRIPTION:North Texas Chamber of Commerce Executive Association
X-ALT-DESC;FMTTYPE=text/html:North Texas Chamber of Commerce Executive Association
LOCATION:
UID:e.2096.2061
SEQUENCE:3
DTSTAMP:20260423T205809Z
URL:https://network.garlandchamber.com/events/details/north-texas-chamber-of-commerce-executive-association-10-19-2009-2061
END:VEVENT

END:VCALENDAR
