BEGIN:VCALENDAR
VERSION:2.0
PRODID:-//ChamberMaster//Event Calendar 2.0//EN
METHOD:PUBLISH
X-PUBLISHED-TTL:P3D
REFRESH-INTERVAL:P3D
CALSCALE:GREGORIAN
BEGIN:VEVENT
DTSTART:20120913T120000Z
DTEND:20120914T045900Z
X-MICROSOFT-CDO-ALLDAYEVENT:FALSE
SUMMARY:North Texas Giving Day
DESCRIPTION:North Texas Giving DaySept. 13\, 2012 from 7 a.m. to Midnight Give $25 or more to your favorite nonprofit through DonorBridgeTX.org on Sept. 13 and your donation will be multiplied! Download and Share the Life Message Flyer
X-ALT-DESC;FMTTYPE=text/html:<DIV style="FONT-FAMILY: Arial">North Texas Giving Day</DIV><DIV style="FONT-FAMILY: Arial">Sept. 13\, 2012 from 7 a.m. to Midnight</DIV><DIV style="FONT-FAMILY: Arial">&nbsp\;</DIV><DIV style="FONT-FAMILY: Arial">Give $25 or more to your favorite nonprofit through DonorBridgeTX.org on Sept. 13 and your donation will be multiplied!</DIV><DIV style="FONT-FAMILY: Arial">&nbsp\;</DIV><DIV style="FONT-FAMILY: Arial"><A dataFld=0:0 href="http://www.garlandchamber.com/images/stories/chamber/Member%20Promotions/Get%20Up%20and%20Give%20Poster%202.jpg">Download and Share&nbsp\;the Life Message Flyer</A></DIV>
LOCATION:Life Message
UID:e.2096.1085
SEQUENCE:3
DTSTAMP:20260421T192241Z
URL:https://network.garlandchamber.com/events/details/north-texas-giving-day-09-13-2012-1085
END:VEVENT

END:VCALENDAR
