BEGIN:VCALENDAR
VERSION:2.0
PRODID:-//ChamberMaster//Event Calendar 2.0//EN
METHOD:PUBLISH
X-PUBLISHED-TTL:P3D
REFRESH-INTERVAL:P3D
CALSCALE:GREGORIAN
BEGIN:VEVENT
DTSTART:20100423T050000Z
DTEND:20100423T050000Z
X-MICROSOFT-CDO-ALLDAYEVENT:FALSE
SUMMARY:North Texas Leadership Conference
DESCRIPTION:
X-ALT-DESC;FMTTYPE=text/html:
LOCATION:Omni Hotel\, Fort Worth
UID:e.2096.765
SEQUENCE:3
DTSTAMP:20260423T121111Z
URL:https://network.garlandchamber.com/events/details/north-texas-leadership-conference-04-23-2010-765
END:VEVENT

END:VCALENDAR
