BEGIN:VCALENDAR
VERSION:2.0
PRODID:-//ChamberMaster//Event Calendar 2.0//EN
METHOD:PUBLISH
X-PUBLISHED-TTL:P3D
REFRESH-INTERVAL:P3D
CALSCALE:GREGORIAN
BEGIN:VEVENT
DTSTART:20091022T130000Z
DTEND:20091022T210000Z
X-MICROSOFT-CDO-ALLDAYEVENT:FALSE
SUMMARY:North Texas Women: Learning\, Leading\, Living
DESCRIPTION:
X-ALT-DESC;FMTTYPE=text/html:
LOCATION:G.I.S.D. Special Events Center
UID:e.2096.684
SEQUENCE:3
DTSTAMP:20260423T221041Z
URL:https://network.garlandchamber.com/events/details/north-texas-women-learning-leading-living-10-22-2009-684
END:VEVENT

END:VCALENDAR
