BEGIN:VCALENDAR
VERSION:2.0
PRODID:-//ChamberMaster//Event Calendar 2.0//EN
METHOD:PUBLISH
X-PUBLISHED-TTL:P3D
REFRESH-INTERVAL:P3D
CALSCALE:GREGORIAN
BEGIN:VEVENT
DTSTART:20061116T233000Z
DTEND:20061117T010000Z
X-MICROSOFT-CDO-ALLDAYEVENT:FALSE
SUMMARY:November P.M. Connections
DESCRIPTION:This FREE evening networking event gives you the chance to meet other business people and make new contacts. These are not just networking events\, but and opportunity for you to connect with valuable resources/ people. Upon attending these events you are allowed 30 seconds to tell us about your business and express your business needs. You can also bring business cards/ brochures to hand out. The Chamber also hosts a joint networking event with the Sachse Chamber each year. Date: Every other month\, beginning in January\, on the last Thursday
X-ALT-DESC;FMTTYPE=text/html:<DIV><P class=MsoNormal style="MARGIN: 0in 0in 0pt\; mso-layout-grid-align: none"><I><SPAN style="FONT-SIZE: 12pt\; COLOR: black\; FONT-FAMILY: 'Arial Narrow'\; mso-bidi-font-family: Arial">This </SPAN></I><?xml:namespace prefix = st1 ns = "urn:schemas-microsoft-com:office:smarttags" /><st1:stockticker><B style="mso-bidi-font-weight: normal"><I><SPAN style="FONT-SIZE: 12pt\; COLOR: green\; FONT-FAMILY: 'Arial Narrow'\; mso-bidi-font-family: Arial">FREE</SPAN></I></B></st1:stockticker><B style="mso-bidi-font-weight: normal"><I><SPAN style="FONT-SIZE: 12pt\; COLOR: green\; FONT-FAMILY: 'Arial Narrow'\; mso-bidi-font-family: Arial"> evening</SPAN></I></B><I><SPAN style="FONT-SIZE: 12pt\; COLOR: black\; FONT-FAMILY: 'Arial Narrow'\; mso-bidi-font-family: Arial"> networking event gives you the chance to meet other business people and make new contacts. </SPAN></I><SPAN style="FONT-SIZE: 12pt\; FONT-FAMILY: 'Arial Narrow'\; mso-bidi-font-family: Arial">These are not just networking events\, but&nbsp\;and&nbsp\;opportunity for you to connect with valuable resources/ people<I><SPAN style="COLOR: black">. Upon attending these events you are allowed 30 seconds to tell us about your business and express your business needs. You can also bring business cards/ brochures to hand out. The Chamber also hosts a joint networking event with the Sachse Chamber each year. <?xml:namespace prefix = o ns = "urn:schemas-microsoft-com:office:office" /><o:p></o:p></SPAN></I></SPAN></P><P class=MsoNormal style="MARGIN: 0in 0in 0pt\; mso-layout-grid-align: none"><B style="mso-bidi-font-weight: normal"><SPAN style="FONT-SIZE: 12pt\; COLOR: black\; FONT-FAMILY: 'Arial Narrow'\; mso-bidi-font-family: Arial">Date: </SPAN></B><SPAN style="FONT-SIZE: 12pt\; COLOR: black\; FONT-FAMILY: 'Arial Narrow'\; mso-bidi-font-family: Arial">Every other month\, beginning in January\, on the last Thursday</SPAN><SPAN style="FONT-SIZE: 9.5pt\; COLOR: black\; FONT-FAMILY: 'Arial Narrow'\; mso-bidi-font-family: Arial"><o:p></o:p></SPAN></P></DIV>
LOCATION:Professional Bank
UID:e.2096.333
SEQUENCE:3
DTSTAMP:20260425T223915Z
URL:https://network.garlandchamber.com/events/details/november-p-m-connections-11-16-2006-333
END:VEVENT

END:VCALENDAR
