BEGIN:VCALENDAR
VERSION:2.0
PRODID:-//ChamberMaster//Event Calendar 2.0//EN
METHOD:PUBLISH
X-PUBLISHED-TTL:P3D
REFRESH-INTERVAL:P3D
CALSCALE:GREGORIAN
BEGIN:VEVENT
DTSTART:20111109T233000Z
DTEND:20111110T013000Z
X-MICROSOFT-CDO-ALLDAYEVENT:FALSE
SUMMARY:NTTA ''Open for Business'' Vendor Forum - CANCELED
DESCRIPTION:RSVP at http://www.NTTA.org/AboutUs/Who/VendorOutreachSymposium.html
X-ALT-DESC;FMTTYPE=text/html:<DIV>RSVP at <A href="http://www.NTTA.org/AboutUs/Who/VendorOutreachSymposium.html">http://www.NTTA.org/AboutUs/Who/VendorOutreachSymposium.html</A>&nbsp\;&nbsp\;&nbsp\;&nbsp\; </DIV>
LOCATION:North Texas Tollway Authority
UID:e.2096.898
SEQUENCE:3
DTSTAMP:20260422T104706Z
URL:https://network.garlandchamber.com/events/details/ntta-open-for-business-vendor-forum-canceled-11-09-2011-898
END:VEVENT

END:VCALENDAR
