BEGIN:VCALENDAR
VERSION:2.0
PRODID:-//ChamberMaster//Event Calendar 2.0//EN
METHOD:PUBLISH
X-PUBLISHED-TTL:P3D
REFRESH-INTERVAL:P3D
CALSCALE:GREGORIAN
BEGIN:VEVENT
DTSTART:20061012T130000Z
DTEND:20061012T140000Z
X-MICROSOFT-CDO-ALLDAYEVENT:FALSE
SUMMARY:October A.M. Connections Event
DESCRIPTION:One of our FREE networking events that gives you the opportunity to meet other businesses and make new contacts. You will get a chance to give a 30 second commercial about your business. We encourage you to bring a client or customer to the event. Bring plenty of business cards and any marketing materials that you would like to hand out. As the sponsoring member\, you have a 15 minute spotlight to market your business. If you would like to sponsor an A.M. Connection\, please contact Kisha Allen at 469-326-7454 or email kisha.allen@garlandchamber.com
X-ALT-DESC;FMTTYPE=text/html:<DIV><FONT size=4>One of our FREE networking events that gives you the opportunity to meet other businesses and make new contacts. You will get a chance to give a 30 second commercial about your business. We encourage you to bring a client or customer to the event.</FONT></DIV><DIV><FONT size=4></FONT>&nbsp\;</DIV><DIV><FONT size=4>Bring plenty of&nbsp\;business cards and any marketing materials that you would like to hand out.</FONT></DIV><DIV><FONT size=4></FONT>&nbsp\;</DIV><DIV><DIV><FONT size=4>As the sponsoring member\, you have a 15 minute spotlight to market your business.&nbsp\;</FONT></DIV><DIV><FONT size=4>If you would like to sponsor an A.M. Connection\, please contact Kisha Allen at 469-326-7454 or email <A href="mailto:kisha.allen@garlandchamber.com">kisha.allen@garlandchamber.com</A></FONT></DIV></DIV>
LOCATION:Montclair Estates
UID:e.2096.328
SEQUENCE:3
DTSTAMP:20260426T001528Z
URL:https://network.garlandchamber.com/events/details/october-a-m-connections-event-10-12-2006-328
END:VEVENT

END:VCALENDAR
