BEGIN:VCALENDAR
VERSION:2.0
PRODID:-//ChamberMaster//Event Calendar 2.0//EN
METHOD:PUBLISH
X-PUBLISHED-TTL:P3D
REFRESH-INTERVAL:P3D
CALSCALE:GREGORIAN
BEGIN:VEVENT
DTSTART:20101013T170000Z
DTEND:20101013T180000Z
X-MICROSOFT-CDO-ALLDAYEVENT:FALSE
SUMMARY:October Business Skills: CANCELED
DESCRIPTION:
X-ALT-DESC;FMTTYPE=text/html:<DIV>&nbsp\;</DIV>
LOCATION:Garland Chamber Office
UID:e.2096.840
SEQUENCE:3
DTSTAMP:20260423T052435Z
URL:https://network.garlandchamber.com/events/details/october-business-skills-canceled-10-13-2010-840
END:VEVENT

END:VCALENDAR
