BEGIN:VCALENDAR
VERSION:2.0
PRODID:-//ChamberMaster//Event Calendar 2.0//EN
METHOD:PUBLISH
X-PUBLISHED-TTL:P3D
REFRESH-INTERVAL:P3D
CALSCALE:GREGORIAN
BEGIN:VEVENT
DTSTART:20061018T130000Z
DTEND:20061018T140000Z
X-MICROSOFT-CDO-ALLDAYEVENT:FALSE
SUMMARY:October VIP Coffee 2006
DESCRIPTION:
X-ALT-DESC;FMTTYPE=text/html:
LOCATION:Garland Chamber of Commerce
UID:e.2096.331
SEQUENCE:3
DTSTAMP:20260426T001521Z
URL:https://network.garlandchamber.com/events/details/october-vip-coffee-2006-10-18-2006-331
END:VEVENT

END:VCALENDAR
