BEGIN:VCALENDAR
VERSION:2.0
PRODID:-//ChamberMaster//Event Calendar 2.0//EN
METHOD:PUBLISH
X-PUBLISHED-TTL:P3D
REFRESH-INTERVAL:P3D
CALSCALE:GREGORIAN
BEGIN:VEVENT
DTSTART:20130329T120000Z
DTEND:20130329T150000Z
X-MICROSOFT-CDO-ALLDAYEVENT:FALSE
SUMMARY:Open House: Prism Electric\, Inc.
DESCRIPTION:
X-ALT-DESC;FMTTYPE=text/html:
LOCATION:Prism Electric\, Inc.
UID:e.2096.1167
SEQUENCE:3
DTSTAMP:20260421T102643Z
URL:https://network.garlandchamber.com/events/details/open-house-prism-electric-inc-03-29-2013-1167
END:VEVENT

END:VCALENDAR
