BEGIN:VCALENDAR
VERSION:2.0
PRODID:-//ChamberMaster//Event Calendar 2.0//EN
METHOD:PUBLISH
X-PUBLISHED-TTL:P3D
REFRESH-INTERVAL:P3D
CALSCALE:GREGORIAN
BEGIN:VEVENT
DTSTART:20090425T230000Z
DTEND:20090425T150000Z
X-MICROSOFT-CDO-ALLDAYEVENT:FALSE
SUMMARY:Optimist Club of Garland Fundraiser
DESCRIPTION:
X-ALT-DESC;FMTTYPE=text/html:
LOCATION:The Optimist Club of Garland Facility
UID:e.2096.654
SEQUENCE:3
DTSTAMP:20260424T052250Z
URL:https://network.garlandchamber.com/events/details/optimist-club-of-garland-fundraiser-04-25-2009-654
END:VEVENT

END:VCALENDAR
