BEGIN:VCALENDAR
VERSION:2.0
PRODID:-//ChamberMaster//Event Calendar 2.0//EN
METHOD:PUBLISH
X-PUBLISHED-TTL:P3D
REFRESH-INTERVAL:P3D
CALSCALE:GREGORIAN
BEGIN:VEVENT
DTSTART:20091110T230000Z
DTEND:20091111T020000Z
X-MICROSOFT-CDO-ALLDAYEVENT:FALSE
SUMMARY:Orange Night Out - Get a Free Whataburger
DESCRIPTION:
X-ALT-DESC;FMTTYPE=text/html:
LOCATION:Whataburger
UID:e.2096.727
SEQUENCE:3
DTSTAMP:20260423T203632Z
URL:https://network.garlandchamber.com/events/details/orange-night-out-get-a-free-whataburger-11-10-2009-727
END:VEVENT

END:VCALENDAR
