BEGIN:VCALENDAR
VERSION:2.0
PRODID:-//ChamberMaster//Event Calendar 2.0//EN
METHOD:PUBLISH
X-PUBLISHED-TTL:P3D
REFRESH-INTERVAL:P3D
CALSCALE:GREGORIAN
BEGIN:VEVENT
DTSTART:20060201T230000Z
DTEND:20070101T010000Z
X-MICROSOFT-CDO-ALLDAYEVENT:FALSE
SUMMARY:P.M. Connections 2006
DESCRIPTION:
X-ALT-DESC;FMTTYPE=text/html:
LOCATION:Varies
UID:e.2096.304
SEQUENCE:3
DTSTAMP:20260425T210036Z
URL:https://network.garlandchamber.com/events/details/p-m-connections-2006-02-01-2006-304
END:VEVENT

END:VCALENDAR
