BEGIN:VCALENDAR
VERSION:2.0
PRODID:-//ChamberMaster//Event Calendar 2.0//EN
METHOD:PUBLISH
X-PUBLISHED-TTL:P3D
REFRESH-INTERVAL:P3D
CALSCALE:GREGORIAN
BEGIN:VEVENT
DTSTART:20080529T220000Z
DTEND:20080529T233000Z
X-MICROSOFT-CDO-ALLDAYEVENT:FALSE
SUMMARY:P.M. Connections Networking Event
DESCRIPTION:
X-ALT-DESC;FMTTYPE=text/html:
LOCATION:Capital One Bank
UID:e.2096.532
SEQUENCE:3
DTSTAMP:20260424T200348Z
URL:https://network.garlandchamber.com/events/details/p-m-connections-networking-event-05-29-2008-532
END:VEVENT

END:VCALENDAR
