BEGIN:VCALENDAR
VERSION:2.0
PRODID:-//ChamberMaster//Event Calendar 2.0//EN
METHOD:PUBLISH
X-PUBLISHED-TTL:P3D
REFRESH-INTERVAL:P3D
CALSCALE:GREGORIAN
BEGIN:VEVENT
DTSTART:20080925T220000Z
DTEND:20080925T233000Z
X-MICROSOFT-CDO-ALLDAYEVENT:FALSE
SUMMARY:P.M. Connections Networking Event
DESCRIPTION:
X-ALT-DESC;FMTTYPE=text/html:
LOCATION:Inwood National Bank
UID:e.2096.575
SEQUENCE:3
DTSTAMP:20260424T144401Z
URL:https://network.garlandchamber.com/events/details/p-m-connections-networking-event-09-25-2008-575
END:VEVENT

END:VCALENDAR
