BEGIN:VCALENDAR
VERSION:2.0
PRODID:-//ChamberMaster//Event Calendar 2.0//EN
METHOD:PUBLISH
X-PUBLISHED-TTL:P3D
REFRESH-INTERVAL:P3D
CALSCALE:GREGORIAN
BEGIN:VEVENT
DTSTART:20081106T230000Z
DTEND:20081107T003000Z
X-MICROSOFT-CDO-ALLDAYEVENT:FALSE
SUMMARY:P.M. Connections Networking Event - Sponsor: Sally J. Design
DESCRIPTION:
X-ALT-DESC;FMTTYPE=text/html:
LOCATION:Sally J. Designs
UID:e.2096.595
SEQUENCE:3
DTSTAMP:20260424T131811Z
URL:https://network.garlandchamber.com/events/details/p-m-connections-networking-event-sponsor-sally-j-design-11-06-2008-595
END:VEVENT

END:VCALENDAR
