BEGIN:VCALENDAR
VERSION:2.0
PRODID:-//ChamberMaster//Event Calendar 2.0//EN
METHOD:PUBLISH
X-PUBLISHED-TTL:P3D
REFRESH-INTERVAL:P3D
CALSCALE:GREGORIAN
BEGIN:VEVENT
DTSTART:20090924T220000Z
DTEND:20090924T233000Z
X-MICROSOFT-CDO-ALLDAYEVENT:FALSE
SUMMARY:P.M. Connections Networking Event Sponsored by Chambrel
DESCRIPTION:
X-ALT-DESC;FMTTYPE=text/html:
LOCATION:Chambrel at Club Hill
UID:e.2096.702
SEQUENCE:3
DTSTAMP:20260423T221009Z
URL:https://network.garlandchamber.com/events/details/p-m-connections-networking-event-sponsored-by-chambrel-09-24-2009-702
END:VEVENT

END:VCALENDAR
