BEGIN:VCALENDAR
VERSION:2.0
PRODID:-//ChamberMaster//Event Calendar 2.0//EN
METHOD:PUBLISH
X-PUBLISHED-TTL:P3D
REFRESH-INTERVAL:P3D
CALSCALE:GREGORIAN
BEGIN:VEVENT
DTSTART:20090528T230000Z
DTEND:20090529T000000Z
X-MICROSOFT-CDO-ALLDAYEVENT:FALSE
SUMMARY:P.M. Connections - Sponsor: Primrose School of Firewheel
DESCRIPTION:
X-ALT-DESC;FMTTYPE=text/html:
LOCATION:Primrose School of Firewheel
UID:e.2096.669
SEQUENCE:3
DTSTAMP:20260424T040308Z
URL:https://network.garlandchamber.com/events/details/p-m-connections-sponsor-primrose-school-of-firewheel-05-28-2009-669
END:VEVENT

END:VCALENDAR
