BEGIN:VCALENDAR
VERSION:2.0
PRODID:-//ChamberMaster//Event Calendar 2.0//EN
METHOD:PUBLISH
X-PUBLISHED-TTL:P3D
REFRESH-INTERVAL:P3D
CALSCALE:GREGORIAN
BEGIN:VEVENT
DTSTART:20090730T223000Z
DTEND:20090731T000000Z
X-MICROSOFT-CDO-ALLDAYEVENT:FALSE
SUMMARY:P.M. Connections - Sponsor: Radisson Hotel Dallas East
DESCRIPTION:
X-ALT-DESC;FMTTYPE=text/html:
LOCATION:Radisson Hotel Dallas East
UID:e.2096.680
SEQUENCE:3
DTSTAMP:20260424T023521Z
URL:https://network.garlandchamber.com/events/details/p-m-connections-sponsor-radisson-hotel-dallas-east-07-30-2009-680
END:VEVENT

END:VCALENDAR
