BEGIN:VCALENDAR
VERSION:2.0
PRODID:-//ChamberMaster//Event Calendar 2.0//EN
METHOD:PUBLISH
X-PUBLISHED-TTL:P3D
REFRESH-INTERVAL:P3D
CALSCALE:GREGORIAN
BEGIN:VEVENT
DTSTART:20100128T233000Z
DTEND:20100129T010000Z
X-MICROSOFT-CDO-ALLDAYEVENT:FALSE
SUMMARY:P.M. Connections Sponsored by: American National Bank
DESCRIPTION:
X-ALT-DESC;FMTTYPE=text/html:<DIV><P class=MsoNormal style="MARGIN: 0in 0in 0pt">&nbsp\;</P></DIV>
LOCATION:American National Bank of Texas
UID:e.2096.738
SEQUENCE:3
DTSTAMP:20260423T163957Z
URL:https://network.garlandchamber.com/events/details/p-m-connections-sponsored-by-american-national-bank-01-28-2010-738
END:VEVENT

END:VCALENDAR
