BEGIN:VCALENDAR
VERSION:2.0
PRODID:-//ChamberMaster//Event Calendar 2.0//EN
METHOD:PUBLISH
X-PUBLISHED-TTL:P3D
REFRESH-INTERVAL:P3D
CALSCALE:GREGORIAN
BEGIN:VEVENT
DTSTART:20100930T223000Z
DTEND:20101001T000000Z
X-MICROSOFT-CDO-ALLDAYEVENT:FALSE
SUMMARY:P.M. Connections Sponsored by: Chili's Bar & Grill
DESCRIPTION:
X-ALT-DESC;FMTTYPE=text/html:<DIV><P class=MsoNormal style="MARGIN: 0in 0in 0pt">&nbsp\;</P></DIV>
LOCATION:Chili's
UID:e.2096.828
SEQUENCE:3
DTSTAMP:20260423T052716Z
URL:https://network.garlandchamber.com/events/details/p-m-connections-sponsored-by-chili-s-bar-grill-09-30-2010-828
END:VEVENT

END:VCALENDAR
