BEGIN:VCALENDAR
VERSION:2.0
PRODID:-//ChamberMaster//Event Calendar 2.0//EN
METHOD:PUBLISH
X-PUBLISHED-TTL:P3D
REFRESH-INTERVAL:P3D
CALSCALE:GREGORIAN
BEGIN:VEVENT
DTSTART:20091112T233000Z
DTEND:20091113T010000Z
X-MICROSOFT-CDO-ALLDAYEVENT:FALSE
SUMMARY:P.M. Connections Sponsored by Ebby Halliday Realtors
DESCRIPTION:
X-ALT-DESC;FMTTYPE=text/html:
LOCATION:Ebby Halliday Realtors
UID:e.2096.720
SEQUENCE:3
DTSTAMP:20260423T193218Z
URL:https://network.garlandchamber.com/events/details/p-m-connections-sponsored-by-ebby-halliday-realtors-11-12-2009-720
END:VEVENT

END:VCALENDAR
