BEGIN:VCALENDAR
VERSION:2.0
PRODID:-//ChamberMaster//Event Calendar 2.0//EN
METHOD:PUBLISH
X-PUBLISHED-TTL:P3D
REFRESH-INTERVAL:P3D
CALSCALE:GREGORIAN
BEGIN:VEVENT
DTSTART:20101111T233000Z
DTEND:20101112T010000Z
X-MICROSOFT-CDO-ALLDAYEVENT:FALSE
SUMMARY:P.M. Connections Sponsored by: Sam's Club #8242
DESCRIPTION:
X-ALT-DESC;FMTTYPE=text/html:<DIV><P class=MsoNormal style="MARGIN: 0in 0in 0pt">&nbsp\;</P></DIV>
LOCATION:Sam's Club #8242
UID:e.2096.845
SEQUENCE:3
DTSTAMP:20260423T040918Z
URL:https://network.garlandchamber.com/events/details/p-m-connections-sponsored-by-sam-s-club-8242-11-11-2010-845
END:VEVENT

END:VCALENDAR
