BEGIN:VCALENDAR
VERSION:2.0
PRODID:-//ChamberMaster//Event Calendar 2.0//EN
METHOD:PUBLISH
X-PUBLISHED-TTL:P3D
REFRESH-INTERVAL:P3D
CALSCALE:GREGORIAN
BEGIN:VEVENT
DTSTART:20100729T223000Z
DTEND:20100730T000000Z
X-MICROSOFT-CDO-ALLDAYEVENT:FALSE
SUMMARY:P.M. Connections Sponsored by: TGI Friday's
DESCRIPTION:
X-ALT-DESC;FMTTYPE=text/html:<DIV><P class=MsoNormal style="MARGIN: 0in 0in 0pt">&nbsp\;</P></DIV>
LOCATION:TGI Friday's
UID:e.2096.810
SEQUENCE:3
DTSTAMP:20260423T081433Z
URL:https://network.garlandchamber.com/events/details/p-m-connections-sponsored-by-tgi-friday-s-07-29-2010-810
END:VEVENT

END:VCALENDAR
