BEGIN:VCALENDAR
VERSION:2.0
PRODID:-//ChamberMaster//Event Calendar 2.0//EN
METHOD:PUBLISH
X-PUBLISHED-TTL:P3D
REFRESH-INTERVAL:P3D
CALSCALE:GREGORIAN
BEGIN:VEVENT
DTSTART:20100527T223000Z
DTEND:20100528T000000Z
X-MICROSOFT-CDO-ALLDAYEVENT:FALSE
SUMMARY:P.M. Connections Sponsored by: Winter's Park Assisted Living
DESCRIPTION:
X-ALT-DESC;FMTTYPE=text/html:<DIV><P class=MsoNormal style="MARGIN: 0in 0in 0pt">&nbsp\;</P></DIV>
LOCATION:Winter's Park Assisted Living & Memory Care
UID:e.2096.785
SEQUENCE:3
DTSTAMP:20260423T105120Z
URL:https://network.garlandchamber.com/events/details/p-m-connections-sponsored-by-winter-s-park-assisted-living-05-27-2010-785
END:VEVENT

END:VCALENDAR
