BEGIN:VCALENDAR
VERSION:2.0
PRODID:-//ChamberMaster//Event Calendar 2.0//EN
METHOD:PUBLISH
X-PUBLISHED-TTL:P3D
REFRESH-INTERVAL:P3D
CALSCALE:GREGORIAN
BEGIN:VEVENT
DTSTART:20121208T190000Z
DTEND:20121208T220000Z
X-MICROSOFT-CDO-ALLDAYEVENT:FALSE
SUMMARY:Photos with Santa
DESCRIPTION:
X-ALT-DESC;FMTTYPE=text/html:
LOCATION:Ebby Halliday Realtors
UID:e.2096.1115
SEQUENCE:3
DTSTAMP:20260421T150034Z
URL:https://network.garlandchamber.com/events/details/photos-with-santa-12-08-2012-1115
END:VEVENT

END:VCALENDAR
