BEGIN:VCALENDAR
VERSION:2.0
PRODID:-//ChamberMaster//Event Calendar 2.0//EN
METHOD:PUBLISH
X-PUBLISHED-TTL:P3D
REFRESH-INTERVAL:P3D
CALSCALE:GREGORIAN
BEGIN:VEVENT
DTSTART:20070429T001500Z
DTEND:20070429T023000Z
X-MICROSOFT-CDO-ALLDAYEVENT:FALSE
SUMMARY:Plano Children's Theater presents ''Tom Sawyer''
DESCRIPTION:Plano Children’s Theater will present “Tom Sawyer” at Eastfield College Saturday\, April 28 in the Performance Hall at 7:15 p.m.Mark Twain’s – “The Adventures of Tom Sawyer” is filled with elementsof the author’s own young life. It is a tale of Tom Sawyer and his escapades with his unruly companion – Huckleberry Finn.Though popular with children\, it offers the mature audience more than spirited sketches in its satire and literary innovation. The performance is great for children and adults of all ages.For further information call 972-860-7185 or visit www.eastfieldcollege.com. Free\, general seating available (no tickets needed). Open to the public.
X-ALT-DESC;FMTTYPE=text/html:Plano Children’s Theater will present “Tom Sawyer” at Eastfield College Saturday\, April 28 in the Performance Hall at 7:15 p.m.Mark Twain’s – “The Adventures of Tom Sawyer” is filled with elementsof the author’s own young life. It is a tale of Tom Sawyer and his escapades with his unruly companion – Huckleberry Finn.Though popular with children\, it offers the mature audience more than spirited sketches in its satire and literary innovation. The performance is great for children and adults of all ages.For further information call 972-860-7185 or visit www.eastfieldcollege.com. Free\, general seating available (no tickets needed). Open to the public.
LOCATION:Eastfield College
UID:e.2096.25
SEQUENCE:3
DTSTAMP:20260425T151628Z
URL:https://network.garlandchamber.com/events/details/plano-children-s-theater-presents-tom-sawyer-04-28-2007-25
END:VEVENT

END:VCALENDAR
