BEGIN:VCALENDAR
VERSION:2.0
PRODID:-//ChamberMaster//Event Calendar 2.0//EN
METHOD:PUBLISH
X-PUBLISHED-TTL:P3D
REFRESH-INTERVAL:P3D
CALSCALE:GREGORIAN
BEGIN:VEVENT
DTSTART:20120706T150000Z
DTEND:20120706T200000Z
X-MICROSOFT-CDO-ALLDAYEVENT:FALSE
SUMMARY:Pleasant Valley Community Health Fair
DESCRIPTION:Stop by and meet healthcare representatives from the Garland community\, including Carter BloodCare and Methodist Mammograms. Blood pressure and sugar checks will also be provided. See the event flyer for additional details.
X-ALT-DESC;FMTTYPE=text/html:<DIV style="FONT-FAMILY: Arial">Stop by and meet healthcare representatives from the Garland community\, including Carter BloodCare and Methodist Mammograms.&nbsp\;Blood pressure and sugar checks will also be provided. <A dataFld=0:0 href="http://www.garlandchamber.com/images/stories/chamber/Pleasant_Valley_Health_Fair_Flyer_July.pdf">See the event flyer</A> for additional details.</DIV>
LOCATION:Pleasant Valley Healthcare & Rehabilitation Center
UID:e.2096.1055
SEQUENCE:3
DTSTAMP:20260421T233651Z
URL:https://network.garlandchamber.com/events/details/pleasant-valley-community-health-fair-07-06-2012-1055
END:VEVENT

END:VCALENDAR
