BEGIN:VCALENDAR
VERSION:2.0
PRODID:-//ChamberMaster//Event Calendar 2.0//EN
METHOD:PUBLISH
X-PUBLISHED-TTL:P3D
REFRESH-INTERVAL:P3D
CALSCALE:GREGORIAN
BEGIN:VEVENT
DTSTART:20081106T173000Z
DTEND:20081106T060000Z
X-MICROSOFT-CDO-ALLDAYEVENT:FALSE
SUMMARY:Pleasant Valley Healthcare & Rehab Center Ribbon Cutting
DESCRIPTION:
X-ALT-DESC;FMTTYPE=text/html:
LOCATION:Pleasant Valley Healthcare & Rehabilitation Center
UID:e.2096.427
SEQUENCE:3
DTSTAMP:20260424T122341Z
URL:https://network.garlandchamber.com/events/details/pleasant-valley-healthcare-rehab-center-ribbon-cutting-11-06-2008-427
END:VEVENT

END:VCALENDAR
