BEGIN:VCALENDAR
VERSION:2.0
PRODID:-//ChamberMaster//Event Calendar 2.0//EN
METHOD:PUBLISH
X-PUBLISHED-TTL:P3D
REFRESH-INTERVAL:P3D
CALSCALE:GREGORIAN
BEGIN:VEVENT
DTSTART:20120522T130000Z
DTEND:20120522T163000Z
X-MICROSOFT-CDO-ALLDAYEVENT:FALSE
SUMMARY:Pre-Deal Day - SBDC Workshop
DESCRIPTION:It's time to assess and prepare your business for financing. This workshop is designed to teach small business owners how to prepare themselves and their businesses to become bankable in order to grow and expand. Presenters are bankers from the community. Workshop topics include:How to develop and evaluate your cash flowKey elements of a business plan including Financial ProjectionsHow to fix credit or no creditSBA loans: what they are and how to qualifyAdmission is free. No registration required.See the Event Flyer See a full calendar of all seminars available through the North Texas Small Business Development Center
X-ALT-DESC;FMTTYPE=text/html:<DIV style="FONT-FAMILY: Arial">It's time to assess and prepare your business for financing. This workshop is designed to teach small business owners how to prepare themselves and their businesses to become bankable in order to grow and expand. Presenters are bankers from the community.</DIV><DIV style="FONT-FAMILY: Arial">&nbsp\;</DIV><DIV style="FONT-FAMILY: Arial">Workshop topics include:</DIV><UL><LI><DIV style="FONT-FAMILY: Arial">How to develop and evaluate your cash flow</DIV><LI><DIV style="FONT-FAMILY: Arial">Key elements of a business plan including Financial Projections</DIV><LI><DIV style="FONT-FAMILY: Arial">How to fix credit or no credit</DIV><LI><DIV style="FONT-FAMILY: Arial">SBA loans: what they are and how to qualify</DIV></LI></UL><P style="FONT-FAMILY: Arial">Admission is free. No registration required.</P><P style="FONT-FAMILY: Arial"><A dataFld=0:0 href="http://www.garlandchamber.com/images/stories/chamber/Pre%20Deal%20Day%20Flyer_1.jpg">See the Event Flyer</A></P><DIV style="FONT-FAMILY: Arial">&nbsp\;</DIV><DIV style="FONT-FAMILY: Arial"><A dataFld=0:0 href="http://ntsbdc.org/supercali/index.php?o=2&amp\;w=1&amp\;c=1&amp\;m=05&amp\;a=1&amp\;y=2012">See a full calendar of all seminars available through the North Texas Small Business Development Center</A></DIV>
LOCATION:Bill J. Priest Institute at El Centro College
UID:e.2096.1033
SEQUENCE:3
DTSTAMP:20260422T010219Z
URL:https://network.garlandchamber.com/events/details/pre-deal-day-sbdc-workshop-05-22-2012-1033
END:VEVENT

END:VCALENDAR
