BEGIN:VCALENDAR
VERSION:2.0
PRODID:-//ChamberMaster//Event Calendar 2.0//EN
METHOD:PUBLISH
X-PUBLISHED-TTL:P3D
REFRESH-INTERVAL:P3D
CALSCALE:GREGORIAN
BEGIN:VEVENT
DTSTART:20130420T130000Z
DTEND:20130421T220000Z
X-MICROSOFT-CDO-ALLDAYEVENT:FALSE
SUMMARY:Pre-Grand Opening at The Spa
DESCRIPTION:
X-ALT-DESC;FMTTYPE=text/html:
LOCATION:The Spa at Whole Health
UID:e.2096.1182
SEQUENCE:3
DTSTAMP:20260421T090140Z
URL:https://network.garlandchamber.com/events/details/pre-grand-opening-at-the-spa-04-20-2013-1182
END:VEVENT

END:VCALENDAR
