BEGIN:VCALENDAR
VERSION:2.0
PRODID:-//ChamberMaster//Event Calendar 2.0//EN
METHOD:PUBLISH
X-PUBLISHED-TTL:P3D
REFRESH-INTERVAL:P3D
CALSCALE:GREGORIAN
BEGIN:VEVENT
DTSTART:20130720T150000Z
DTEND:20130720T190000Z
X-MICROSOFT-CDO-ALLDAYEVENT:FALSE
SUMMARY:Primrose National Open House
DESCRIPTION:Primrose School of Firewheel is hosting a National Open House Event from 10-2 p.m. Local families are welcome to enjoy a Saturday of family fun with reading-inspired activities. The first 25 familiestake home a great gift bag. Children will participate in activities related to the books highlightedat this fun\, educational event. School tours will be available for those wishing to learn more about the Primrose Experience. For more info\, visit www.primrosefirewheel.com
X-ALT-DESC;FMTTYPE=text/html:Primrose School of Firewheel is hosting a National Open House Event from 10-2 p.m. Local families are welcome to enjoy a Saturday of family fun with reading-inspired activities. The first 25 familiestake home a great gift bag. Children will participate in activities related to the books highlightedat this fun\, educational event. School tours will be available for those wishing to learn more about the Primrose Experience. For more info\, visit www.primrosefirewheel.com
LOCATION:Primrose School of Firewheel
UID:e.2096.1
SEQUENCE:3
DTSTAMP:20260421T044648Z
URL:https://network.garlandchamber.com/events/details/primrose-national-open-house-07-20-2013-1
END:VEVENT

END:VCALENDAR
