BEGIN:VCALENDAR
VERSION:2.0
PRODID:-//ChamberMaster//Event Calendar 2.0//EN
METHOD:PUBLISH
X-PUBLISHED-TTL:P3D
REFRESH-INTERVAL:P3D
CALSCALE:GREGORIAN
BEGIN:VEVENT
DTSTART:20110806T160000Z
DTEND:20110806T060000Z
X-MICROSOFT-CDO-ALLDAYEVENT:FALSE
SUMMARY:Primrose School of Firewheel Open House
DESCRIPTION:
X-ALT-DESC;FMTTYPE=text/html:
LOCATION:Primrose School of Firewheel
UID:e.2096.599
SEQUENCE:3
DTSTAMP:20260422T135108Z
URL:https://network.garlandchamber.com/events/details/primrose-school-of-firewheel-open-house-08-06-2011-599
END:VEVENT

END:VCALENDAR
