BEGIN:VCALENDAR
VERSION:2.0
PRODID:-//ChamberMaster//Event Calendar 2.0//EN
METHOD:PUBLISH
X-PUBLISHED-TTL:P3D
REFRESH-INTERVAL:P3D
CALSCALE:GREGORIAN
BEGIN:VEVENT
DTSTART:20090831T050000Z
DTEND:20091231T060000Z
X-MICROSOFT-CDO-ALLDAYEVENT:FALSE
SUMMARY:Printer/ Toner Cartridge Recycling Event
DESCRIPTION:
X-ALT-DESC;FMTTYPE=text/html:
LOCATION:Christian Care Centers
UID:e.2096.704
SEQUENCE:3
DTSTAMP:20260423T192524Z
URL:https://network.garlandchamber.com/events/details/printer-toner-cartridge-recycling-event-08-31-2009-704
END:VEVENT

END:VCALENDAR
